BEGIN:VCALENDAR
VERSION:2.0
PRODID:-//K1 Circuit - ECPv6.14.2//NONSGML v1.0//EN
CALSCALE:GREGORIAN
METHOD:PUBLISH
X-WR-CALNAME:K1 Circuit
X-ORIGINAL-URL:https://www.k1circuit.com
X-WR-CALDESC:Events for K1 Circuit
REFRESH-INTERVAL;VALUE=DURATION:PT1H
X-Robots-Tag:noindex
X-PUBLISHED-TTL:PT1H
BEGIN:VTIMEZONE
TZID:America/Los_Angeles
BEGIN:DAYLIGHT
TZOFFSETFROM:-0800
TZOFFSETTO:-0700
TZNAME:PDT
DTSTART:20260308T100000
END:DAYLIGHT
BEGIN:STANDARD
TZOFFSETFROM:-0700
TZOFFSETTO:-0800
TZNAME:PST
DTSTART:20261101T090000
END:STANDARD
END:VTIMEZONE
BEGIN:VEVENT
DTSTART;TZID=America/Los_Angeles:20260423T090000
DTEND;TZID=America/Los_Angeles:20260423T173000
DTSTAMP:20260420T111707
CREATED:20250403T001306Z
LAST-MODIFIED:20260304T204546Z
UID:10021321-1776934800-1776965400@www.k1circuit.com
SUMMARY:Arrive and Drive
DESCRIPTION:
URL:https://www.k1circuit.com/calendar/arrive-and-drive-7/2026-04-23/
LOCATION:Whiteland
CATEGORIES:A&D 9-6
END:VEVENT
END:VCALENDAR