BEGIN:VCALENDAR
VERSION:2.0
PRODID:-//K1 Circuit - ECPv6.14.2//NONSGML v1.0//EN
CALSCALE:GREGORIAN
METHOD:PUBLISH
X-WR-CALNAME:K1 Circuit
X-ORIGINAL-URL:https://www.k1circuit.com
X-WR-CALDESC:Events for K1 Circuit
REFRESH-INTERVAL;VALUE=DURATION:PT1H
X-Robots-Tag:noindex
X-PUBLISHED-TTL:PT1H
BEGIN:VTIMEZONE
TZID:America/Los_Angeles
BEGIN:DAYLIGHT
TZOFFSETFROM:-0800
TZOFFSETTO:-0700
TZNAME:PDT
DTSTART:20260308T100000
END:DAYLIGHT
BEGIN:STANDARD
TZOFFSETFROM:-0700
TZOFFSETTO:-0800
TZNAME:PST
DTSTART:20261101T090000
END:STANDARD
END:VTIMEZONE
BEGIN:VEVENT
DTSTART;TZID=America/Los_Angeles:20260724T090000
DTEND;TZID=America/Los_Angeles:20260724T180000
DTSTAMP:20260422T045647
CREATED:20250403T001306Z
LAST-MODIFIED:20260304T204546Z
UID:10021307-1784883600-1784916000@www.k1circuit.com
SUMMARY:Arrive and Drive
DESCRIPTION:
URL:https://www.k1circuit.com/calendar/arrive-and-drive-7/2026-07-24/
LOCATION:Whiteland
CATEGORIES:A&D 9-6
END:VEVENT
BEGIN:VEVENT
DTSTART;TZID=America/Los_Angeles:20260724T183000
DTEND;TZID=America/Los_Angeles:20260724T210000
DTSTAMP:20260422T045647
CREATED:20250403T000754Z
LAST-MODIFIED:20251211T003943Z
UID:10017040-1784917800-1784926800@www.k1circuit.com
SUMMARY:Senior League
DESCRIPTION:Arrive by 6pm to check in. Mandatory Driver’s Meeting begins promptly at 6:30 pm. \n$95 per racer. \nMore Info
URL:https://www.k1circuit.com/calendar/senior-league-2/2026-07-24/
LOCATION:Whiteland
END:VEVENT
END:VCALENDAR