BEGIN:VCALENDAR
VERSION:2.0
PRODID:-//K1 Circuit - ECPv6.14.2//NONSGML v1.0//EN
CALSCALE:GREGORIAN
METHOD:PUBLISH
X-ORIGINAL-URL:https://www.k1circuit.com
X-WR-CALDESC:Events for K1 Circuit
REFRESH-INTERVAL;VALUE=DURATION:PT1H
X-Robots-Tag:noindex
X-PUBLISHED-TTL:PT1H
BEGIN:VTIMEZONE
TZID:America/Los_Angeles
BEGIN:DAYLIGHT
TZOFFSETFROM:-0800
TZOFFSETTO:-0700
TZNAME:PDT
DTSTART:20250309T100000
END:DAYLIGHT
BEGIN:STANDARD
TZOFFSETFROM:-0700
TZOFFSETTO:-0800
TZNAME:PST
DTSTART:20251102T090000
END:STANDARD
END:VTIMEZONE
BEGIN:VEVENT
DTSTART;TZID=America/Los_Angeles:20250911T073000
DTEND;TZID=America/Los_Angeles:20250911T170000
DTSTAMP:20260420T222759
CREATED:20250310T204643Z
LAST-MODIFIED:20251211T181855Z
UID:10014454-1757575800-1757610000@www.k1circuit.com
SUMMARY:Vintage Karting Association
DESCRIPTION:
URL:https://www.k1circuit.com/calendar/vintage-karting-association/2025-09-11/
LOCATION:Whiteland
END:VEVENT
BEGIN:VEVENT
DTSTART;TZID=America/Los_Angeles:20250912T073000
DTEND;TZID=America/Los_Angeles:20250912T170000
DTSTAMP:20260420T222759
CREATED:20250310T204643Z
LAST-MODIFIED:20251211T181855Z
UID:10014455-1757662200-1757696400@www.k1circuit.com
SUMMARY:Vintage Karting Association
DESCRIPTION:
URL:https://www.k1circuit.com/calendar/vintage-karting-association/2025-09-12/
LOCATION:Whiteland
END:VEVENT
BEGIN:VEVENT
DTSTART;TZID=America/Los_Angeles:20250913T073000
DTEND;TZID=America/Los_Angeles:20250913T170000
DTSTAMP:20260420T222759
CREATED:20250310T204643Z
LAST-MODIFIED:20251211T181855Z
UID:10014456-1757748600-1757782800@www.k1circuit.com
SUMMARY:Vintage Karting Association
DESCRIPTION:
URL:https://www.k1circuit.com/calendar/vintage-karting-association/2025-09-13/
LOCATION:Whiteland
END:VEVENT
BEGIN:VEVENT
DTSTART;TZID=America/Los_Angeles:20250919T090000
DTEND;TZID=America/Los_Angeles:20250919T180000
DTSTAMP:20260420T222759
CREATED:20250403T001306Z
LAST-MODIFIED:20260304T204546Z
UID:10014543-1758272400-1758304800@www.k1circuit.com
SUMMARY:Arrive and Drive
DESCRIPTION:
URL:https://www.k1circuit.com/calendar/arrive-and-drive-7/2025-09-19/
LOCATION:Whiteland
CATEGORIES:A&D 9-6
END:VEVENT
END:VCALENDAR