BEGIN:VCALENDAR
VERSION:2.0
PRODID:-//K1 Circuit - ECPv6.14.2//NONSGML v1.0//EN
CALSCALE:GREGORIAN
METHOD:PUBLISH
X-ORIGINAL-URL:https://www.k1circuit.com
X-WR-CALDESC:Events for K1 Circuit
REFRESH-INTERVAL;VALUE=DURATION:PT1H
X-Robots-Tag:noindex
X-PUBLISHED-TTL:PT1H
BEGIN:VTIMEZONE
TZID:America/Los_Angeles
BEGIN:DAYLIGHT
TZOFFSETFROM:-0800
TZOFFSETTO:-0700
TZNAME:PDT
DTSTART:20260308T100000
END:DAYLIGHT
BEGIN:STANDARD
TZOFFSETFROM:-0700
TZOFFSETTO:-0800
TZNAME:PST
DTSTART:20261101T090000
END:STANDARD
END:VTIMEZONE
BEGIN:VEVENT
DTSTART;TZID=America/Los_Angeles:20260801T090000
DTEND;TZID=America/Los_Angeles:20260801T210000
DTSTAMP:20260424T113833
CREATED:20250117T013303Z
LAST-MODIFIED:20260406T172604Z
UID:10020474-1785574800-1785618000@www.k1circuit.com
SUMMARY:Arrive and Drive
DESCRIPTION:RAIN OR SHINE
URL:https://www.k1circuit.com/calendar/arrive-and-drive/2026-08-01/
LOCATION:Winchester
CATEGORIES:A&D 9-9
END:VEVENT
BEGIN:VEVENT
DTSTART;TZID=America/Los_Angeles:20260801T090000
DTEND;TZID=America/Los_Angeles:20260801T210000
DTSTAMP:20260424T113833
CREATED:20260304T000732Z
LAST-MODIFIED:20260304T203931Z
UID:10020892-1785574800-1785618000@www.k1circuit.com
SUMMARY:Arrive and Drive
DESCRIPTION:RAIN OR SHINE
URL:https://www.k1circuit.com/calendar/arrive-and-drive-3-2/2026-08-01/
LOCATION:Whiteland
CATEGORIES:A&D 9-9
END:VEVENT
BEGIN:VEVENT
DTSTART;TZID=America/Los_Angeles:20260802T090000
DTEND;TZID=America/Los_Angeles:20260802T210000
DTSTAMP:20260424T113833
CREATED:20250117T013303Z
LAST-MODIFIED:20260406T172604Z
UID:10020475-1785661200-1785704400@www.k1circuit.com
SUMMARY:Arrive and Drive
DESCRIPTION:RAIN OR SHINE
URL:https://www.k1circuit.com/calendar/arrive-and-drive/2026-08-02/
LOCATION:Winchester
CATEGORIES:A&D 9-9
END:VEVENT
BEGIN:VEVENT
DTSTART;TZID=America/Los_Angeles:20260802T090000
DTEND;TZID=America/Los_Angeles:20260802T210000
DTSTAMP:20260424T113833
CREATED:20260304T000732Z
LAST-MODIFIED:20260304T203931Z
UID:10020893-1785661200-1785704400@www.k1circuit.com
SUMMARY:Arrive and Drive
DESCRIPTION:RAIN OR SHINE
URL:https://www.k1circuit.com/calendar/arrive-and-drive-3-2/2026-08-02/
LOCATION:Whiteland
CATEGORIES:A&D 9-9
END:VEVENT
BEGIN:VEVENT
DTSTART;TZID=America/Los_Angeles:20260803T090000
DTEND;TZID=America/Los_Angeles:20260803T210000
DTSTAMP:20260424T113833
CREATED:20250117T013303Z
LAST-MODIFIED:20260406T172604Z
UID:10020476-1785747600-1785790800@www.k1circuit.com
SUMMARY:Arrive and Drive
DESCRIPTION:RAIN OR SHINE
URL:https://www.k1circuit.com/calendar/arrive-and-drive/2026-08-03/
LOCATION:Winchester
CATEGORIES:A&D 9-9
END:VEVENT
BEGIN:VEVENT
DTSTART;TZID=America/Los_Angeles:20260803T090000
DTEND;TZID=America/Los_Angeles:20260803T210000
DTSTAMP:20260424T113833
CREATED:20260304T000732Z
LAST-MODIFIED:20260304T203931Z
UID:10020894-1785747600-1785790800@www.k1circuit.com
SUMMARY:Arrive and Drive
DESCRIPTION:RAIN OR SHINE
URL:https://www.k1circuit.com/calendar/arrive-and-drive-3-2/2026-08-03/
LOCATION:Whiteland
CATEGORIES:A&D 9-9
END:VEVENT
BEGIN:VEVENT
DTSTART;TZID=America/Los_Angeles:20260804T090000
DTEND;TZID=America/Los_Angeles:20260804T210000
DTSTAMP:20260424T113833
CREATED:20250117T013303Z
LAST-MODIFIED:20260406T172604Z
UID:10020477-1785834000-1785877200@www.k1circuit.com
SUMMARY:Arrive and Drive
DESCRIPTION:RAIN OR SHINE
URL:https://www.k1circuit.com/calendar/arrive-and-drive/2026-08-04/
LOCATION:Winchester
CATEGORIES:A&D 9-9
END:VEVENT
BEGIN:VEVENT
DTSTART;TZID=America/Los_Angeles:20260804T090000
DTEND;TZID=America/Los_Angeles:20260804T210000
DTSTAMP:20260424T113833
CREATED:20260304T000732Z
LAST-MODIFIED:20260304T203931Z
UID:10020895-1785834000-1785877200@www.k1circuit.com
SUMMARY:Arrive and Drive
DESCRIPTION:RAIN OR SHINE
URL:https://www.k1circuit.com/calendar/arrive-and-drive-3-2/2026-08-04/
LOCATION:Whiteland
CATEGORIES:A&D 9-9
END:VEVENT
BEGIN:VEVENT
DTSTART;TZID=America/Los_Angeles:20260805T090000
DTEND;TZID=America/Los_Angeles:20260805T210000
DTSTAMP:20260424T113833
CREATED:20250117T013303Z
LAST-MODIFIED:20260406T172604Z
UID:10020478-1785920400-1785963600@www.k1circuit.com
SUMMARY:Arrive and Drive
DESCRIPTION:RAIN OR SHINE
URL:https://www.k1circuit.com/calendar/arrive-and-drive/2026-08-05/
LOCATION:Winchester
CATEGORIES:A&D 9-9
END:VEVENT
BEGIN:VEVENT
DTSTART;TZID=America/Los_Angeles:20260805T090000
DTEND;TZID=America/Los_Angeles:20260805T210000
DTSTAMP:20260424T113833
CREATED:20260304T000732Z
LAST-MODIFIED:20260304T203931Z
UID:10020896-1785920400-1785963600@www.k1circuit.com
SUMMARY:Arrive and Drive
DESCRIPTION:RAIN OR SHINE
URL:https://www.k1circuit.com/calendar/arrive-and-drive-3-2/2026-08-05/
LOCATION:Whiteland
CATEGORIES:A&D 9-9
END:VEVENT
BEGIN:VEVENT
DTSTART;TZID=America/Los_Angeles:20260806T090000
DTEND;TZID=America/Los_Angeles:20260806T210000
DTSTAMP:20260424T113833
CREATED:20250117T013303Z
LAST-MODIFIED:20260406T172604Z
UID:10020479-1786006800-1786050000@www.k1circuit.com
SUMMARY:Arrive and Drive
DESCRIPTION:RAIN OR SHINE
URL:https://www.k1circuit.com/calendar/arrive-and-drive/2026-08-06/
LOCATION:Winchester
CATEGORIES:A&D 9-9
END:VEVENT
BEGIN:VEVENT
DTSTART;TZID=America/Los_Angeles:20260806T090000
DTEND;TZID=America/Los_Angeles:20260806T210000
DTSTAMP:20260424T113833
CREATED:20260304T000732Z
LAST-MODIFIED:20260304T203931Z
UID:10020897-1786006800-1786050000@www.k1circuit.com
SUMMARY:Arrive and Drive
DESCRIPTION:RAIN OR SHINE
URL:https://www.k1circuit.com/calendar/arrive-and-drive-3-2/2026-08-06/
LOCATION:Whiteland
CATEGORIES:A&D 9-9
END:VEVENT
BEGIN:VEVENT
DTSTART;TZID=America/Los_Angeles:20260807T090000
DTEND;TZID=America/Los_Angeles:20260807T210000
DTSTAMP:20260424T113833
CREATED:20250117T013303Z
LAST-MODIFIED:20260406T172604Z
UID:10020480-1786093200-1786136400@www.k1circuit.com
SUMMARY:Arrive and Drive
DESCRIPTION:RAIN OR SHINE
URL:https://www.k1circuit.com/calendar/arrive-and-drive/2026-08-07/
LOCATION:Winchester
CATEGORIES:A&D 9-9
END:VEVENT
BEGIN:VEVENT
DTSTART;TZID=America/Los_Angeles:20260807T090000
DTEND;TZID=America/Los_Angeles:20260807T210000
DTSTAMP:20260424T113833
CREATED:20260304T000732Z
LAST-MODIFIED:20260304T203931Z
UID:10020898-1786093200-1786136400@www.k1circuit.com
SUMMARY:Arrive and Drive
DESCRIPTION:RAIN OR SHINE
URL:https://www.k1circuit.com/calendar/arrive-and-drive-3-2/2026-08-07/
LOCATION:Whiteland
CATEGORIES:A&D 9-9
END:VEVENT
BEGIN:VEVENT
DTSTART;TZID=America/Los_Angeles:20260808T090000
DTEND;TZID=America/Los_Angeles:20260808T210000
DTSTAMP:20260424T113833
CREATED:20260304T000732Z
LAST-MODIFIED:20260304T203931Z
UID:10020899-1786179600-1786222800@www.k1circuit.com
SUMMARY:Arrive and Drive
DESCRIPTION:RAIN OR SHINE
URL:https://www.k1circuit.com/calendar/arrive-and-drive-3-2/2026-08-08/
LOCATION:Whiteland
CATEGORIES:A&D 9-9
END:VEVENT
BEGIN:VEVENT
DTSTART;TZID=America/Los_Angeles:20260809T090000
DTEND;TZID=America/Los_Angeles:20260809T210000
DTSTAMP:20260424T113833
CREATED:20250117T013303Z
LAST-MODIFIED:20260406T172604Z
UID:10020482-1786266000-1786309200@www.k1circuit.com
SUMMARY:Arrive and Drive
DESCRIPTION:RAIN OR SHINE
URL:https://www.k1circuit.com/calendar/arrive-and-drive/2026-08-09/
LOCATION:Winchester
CATEGORIES:A&D 9-9
END:VEVENT
BEGIN:VEVENT
DTSTART;TZID=America/Los_Angeles:20260809T090000
DTEND;TZID=America/Los_Angeles:20260809T210000
DTSTAMP:20260424T113833
CREATED:20260304T000732Z
LAST-MODIFIED:20260304T203931Z
UID:10020900-1786266000-1786309200@www.k1circuit.com
SUMMARY:Arrive and Drive
DESCRIPTION:RAIN OR SHINE
URL:https://www.k1circuit.com/calendar/arrive-and-drive-3-2/2026-08-09/
LOCATION:Whiteland
CATEGORIES:A&D 9-9
END:VEVENT
BEGIN:VEVENT
DTSTART;TZID=America/Los_Angeles:20260810T090000
DTEND;TZID=America/Los_Angeles:20260810T210000
DTSTAMP:20260424T113833
CREATED:20250117T013303Z
LAST-MODIFIED:20260406T172604Z
UID:10020483-1786352400-1786395600@www.k1circuit.com
SUMMARY:Arrive and Drive
DESCRIPTION:RAIN OR SHINE
URL:https://www.k1circuit.com/calendar/arrive-and-drive/2026-08-10/
LOCATION:Winchester
CATEGORIES:A&D 9-9
END:VEVENT
BEGIN:VEVENT
DTSTART;TZID=America/Los_Angeles:20260810T090000
DTEND;TZID=America/Los_Angeles:20260810T210000
DTSTAMP:20260424T113833
CREATED:20260304T000732Z
LAST-MODIFIED:20260304T203931Z
UID:10020901-1786352400-1786395600@www.k1circuit.com
SUMMARY:Arrive and Drive
DESCRIPTION:RAIN OR SHINE
URL:https://www.k1circuit.com/calendar/arrive-and-drive-3-2/2026-08-10/
LOCATION:Whiteland
CATEGORIES:A&D 9-9
END:VEVENT
BEGIN:VEVENT
DTSTART;TZID=America/Los_Angeles:20260811T090000
DTEND;TZID=America/Los_Angeles:20260811T210000
DTSTAMP:20260424T113833
CREATED:20250117T013303Z
LAST-MODIFIED:20260406T172604Z
UID:10020484-1786438800-1786482000@www.k1circuit.com
SUMMARY:Arrive and Drive
DESCRIPTION:RAIN OR SHINE
URL:https://www.k1circuit.com/calendar/arrive-and-drive/2026-08-11/
LOCATION:Winchester
CATEGORIES:A&D 9-9
END:VEVENT
BEGIN:VEVENT
DTSTART;TZID=America/Los_Angeles:20260811T090000
DTEND;TZID=America/Los_Angeles:20260811T210000
DTSTAMP:20260424T113833
CREATED:20260304T000732Z
LAST-MODIFIED:20260304T203931Z
UID:10020902-1786438800-1786482000@www.k1circuit.com
SUMMARY:Arrive and Drive
DESCRIPTION:RAIN OR SHINE
URL:https://www.k1circuit.com/calendar/arrive-and-drive-3-2/2026-08-11/
LOCATION:Whiteland
CATEGORIES:A&D 9-9
END:VEVENT
BEGIN:VEVENT
DTSTART;TZID=America/Los_Angeles:20260812T090000
DTEND;TZID=America/Los_Angeles:20260812T210000
DTSTAMP:20260424T113833
CREATED:20250117T013303Z
LAST-MODIFIED:20260406T172604Z
UID:10020485-1786525200-1786568400@www.k1circuit.com
SUMMARY:Arrive and Drive
DESCRIPTION:RAIN OR SHINE
URL:https://www.k1circuit.com/calendar/arrive-and-drive/2026-08-12/
LOCATION:Winchester
CATEGORIES:A&D 9-9
END:VEVENT
BEGIN:VEVENT
DTSTART;TZID=America/Los_Angeles:20260812T090000
DTEND;TZID=America/Los_Angeles:20260812T210000
DTSTAMP:20260424T113833
CREATED:20260304T000732Z
LAST-MODIFIED:20260304T203931Z
UID:10020903-1786525200-1786568400@www.k1circuit.com
SUMMARY:Arrive and Drive
DESCRIPTION:RAIN OR SHINE
URL:https://www.k1circuit.com/calendar/arrive-and-drive-3-2/2026-08-12/
LOCATION:Whiteland
CATEGORIES:A&D 9-9
END:VEVENT
BEGIN:VEVENT
DTSTART;TZID=America/Los_Angeles:20260813T090000
DTEND;TZID=America/Los_Angeles:20260813T210000
DTSTAMP:20260424T113833
CREATED:20250117T013303Z
LAST-MODIFIED:20260406T172604Z
UID:10020486-1786611600-1786654800@www.k1circuit.com
SUMMARY:Arrive and Drive
DESCRIPTION:RAIN OR SHINE
URL:https://www.k1circuit.com/calendar/arrive-and-drive/2026-08-13/
LOCATION:Winchester
CATEGORIES:A&D 9-9
END:VEVENT
BEGIN:VEVENT
DTSTART;TZID=America/Los_Angeles:20260813T090000
DTEND;TZID=America/Los_Angeles:20260813T210000
DTSTAMP:20260424T113833
CREATED:20260304T000732Z
LAST-MODIFIED:20260304T203931Z
UID:10020904-1786611600-1786654800@www.k1circuit.com
SUMMARY:Arrive and Drive
DESCRIPTION:RAIN OR SHINE
URL:https://www.k1circuit.com/calendar/arrive-and-drive-3-2/2026-08-13/
LOCATION:Whiteland
CATEGORIES:A&D 9-9
END:VEVENT
BEGIN:VEVENT
DTSTART;TZID=America/Los_Angeles:20260814T090000
DTEND;TZID=America/Los_Angeles:20260814T210000
DTSTAMP:20260424T113833
CREATED:20260304T000732Z
LAST-MODIFIED:20260304T203931Z
UID:10020905-1786698000-1786741200@www.k1circuit.com
SUMMARY:Arrive and Drive
DESCRIPTION:RAIN OR SHINE
URL:https://www.k1circuit.com/calendar/arrive-and-drive-3-2/2026-08-14/
LOCATION:Whiteland
CATEGORIES:A&D 9-9
END:VEVENT
BEGIN:VEVENT
DTSTART;TZID=America/Los_Angeles:20260815T090000
DTEND;TZID=America/Los_Angeles:20260815T210000
DTSTAMP:20260424T113833
CREATED:20250117T013303Z
LAST-MODIFIED:20260406T172604Z
UID:10020488-1786784400-1786827600@www.k1circuit.com
SUMMARY:Arrive and Drive
DESCRIPTION:RAIN OR SHINE
URL:https://www.k1circuit.com/calendar/arrive-and-drive/2026-08-15/
LOCATION:Winchester
CATEGORIES:A&D 9-9
END:VEVENT
BEGIN:VEVENT
DTSTART;TZID=America/Los_Angeles:20260815T090000
DTEND;TZID=America/Los_Angeles:20260815T210000
DTSTAMP:20260424T113833
CREATED:20260304T000732Z
LAST-MODIFIED:20260304T203931Z
UID:10020906-1786784400-1786827600@www.k1circuit.com
SUMMARY:Arrive and Drive
DESCRIPTION:RAIN OR SHINE
URL:https://www.k1circuit.com/calendar/arrive-and-drive-3-2/2026-08-15/
LOCATION:Whiteland
CATEGORIES:A&D 9-9
END:VEVENT
BEGIN:VEVENT
DTSTART;TZID=America/Los_Angeles:20260816T090000
DTEND;TZID=America/Los_Angeles:20260816T210000
DTSTAMP:20260424T113833
CREATED:20250117T013303Z
LAST-MODIFIED:20260406T172604Z
UID:10020489-1786870800-1786914000@www.k1circuit.com
SUMMARY:Arrive and Drive
DESCRIPTION:RAIN OR SHINE
URL:https://www.k1circuit.com/calendar/arrive-and-drive/2026-08-16/
LOCATION:Winchester
CATEGORIES:A&D 9-9
END:VEVENT
BEGIN:VEVENT
DTSTART;TZID=America/Los_Angeles:20260816T090000
DTEND;TZID=America/Los_Angeles:20260816T210000
DTSTAMP:20260424T113833
CREATED:20260304T000732Z
LAST-MODIFIED:20260304T203931Z
UID:10020907-1786870800-1786914000@www.k1circuit.com
SUMMARY:Arrive and Drive
DESCRIPTION:RAIN OR SHINE
URL:https://www.k1circuit.com/calendar/arrive-and-drive-3-2/2026-08-16/
LOCATION:Whiteland
CATEGORIES:A&D 9-9
END:VEVENT
END:VCALENDAR