BEGIN:VCALENDAR
VERSION:2.0
PRODID:-//K1 Circuit - ECPv6.14.2//NONSGML v1.0//EN
CALSCALE:GREGORIAN
METHOD:PUBLISH
X-ORIGINAL-URL:https://www.k1circuit.com
X-WR-CALDESC:Events for K1 Circuit
REFRESH-INTERVAL;VALUE=DURATION:PT1H
X-Robots-Tag:noindex
X-PUBLISHED-TTL:PT1H
BEGIN:VTIMEZONE
TZID:America/Los_Angeles
BEGIN:DAYLIGHT
TZOFFSETFROM:-0800
TZOFFSETTO:-0700
TZNAME:PDT
DTSTART:20260308T100000
END:DAYLIGHT
BEGIN:STANDARD
TZOFFSETFROM:-0700
TZOFFSETTO:-0800
TZNAME:PST
DTSTART:20261101T090000
END:STANDARD
END:VTIMEZONE
BEGIN:VEVENT
DTSTART;TZID=America/Los_Angeles:20260601T090000
DTEND;TZID=America/Los_Angeles:20260601T210000
DTSTAMP:20260422T015305
CREATED:20250117T013303Z
LAST-MODIFIED:20260406T172604Z
UID:10020423-1780304400-1780347600@www.k1circuit.com
SUMMARY:Arrive and Drive
DESCRIPTION:RAIN OR SHINE
URL:https://www.k1circuit.com/calendar/arrive-and-drive/2026-06-01/
LOCATION:Winchester
CATEGORIES:A&D 9-9
END:VEVENT
BEGIN:VEVENT
DTSTART;TZID=America/Los_Angeles:20260601T090000
DTEND;TZID=America/Los_Angeles:20260601T210000
DTSTAMP:20260422T015305
CREATED:20260304T000732Z
LAST-MODIFIED:20260304T203931Z
UID:10020831-1780304400-1780347600@www.k1circuit.com
SUMMARY:Arrive and Drive
DESCRIPTION:RAIN OR SHINE
URL:https://www.k1circuit.com/calendar/arrive-and-drive-3-2/2026-06-01/
LOCATION:Whiteland
CATEGORIES:A&D 9-9
END:VEVENT
BEGIN:VEVENT
DTSTART;TZID=America/Los_Angeles:20260602T090000
DTEND;TZID=America/Los_Angeles:20260602T210000
DTSTAMP:20260422T015305
CREATED:20250117T013303Z
LAST-MODIFIED:20260406T172604Z
UID:10020424-1780390800-1780434000@www.k1circuit.com
SUMMARY:Arrive and Drive
DESCRIPTION:RAIN OR SHINE
URL:https://www.k1circuit.com/calendar/arrive-and-drive/2026-06-02/
LOCATION:Winchester
CATEGORIES:A&D 9-9
END:VEVENT
BEGIN:VEVENT
DTSTART;TZID=America/Los_Angeles:20260602T090000
DTEND;TZID=America/Los_Angeles:20260602T210000
DTSTAMP:20260422T015305
CREATED:20260304T000732Z
LAST-MODIFIED:20260304T203931Z
UID:10020832-1780390800-1780434000@www.k1circuit.com
SUMMARY:Arrive and Drive
DESCRIPTION:RAIN OR SHINE
URL:https://www.k1circuit.com/calendar/arrive-and-drive-3-2/2026-06-02/
LOCATION:Whiteland
CATEGORIES:A&D 9-9
END:VEVENT
BEGIN:VEVENT
DTSTART;TZID=America/Los_Angeles:20260603T090000
DTEND;TZID=America/Los_Angeles:20260603T210000
DTSTAMP:20260422T015305
CREATED:20250117T013303Z
LAST-MODIFIED:20260406T172604Z
UID:10020425-1780477200-1780520400@www.k1circuit.com
SUMMARY:Arrive and Drive
DESCRIPTION:RAIN OR SHINE
URL:https://www.k1circuit.com/calendar/arrive-and-drive/2026-06-03/
LOCATION:Winchester
CATEGORIES:A&D 9-9
END:VEVENT
BEGIN:VEVENT
DTSTART;TZID=America/Los_Angeles:20260603T090000
DTEND;TZID=America/Los_Angeles:20260603T210000
DTSTAMP:20260422T015305
CREATED:20260304T000732Z
LAST-MODIFIED:20260304T203931Z
UID:10020833-1780477200-1780520400@www.k1circuit.com
SUMMARY:Arrive and Drive
DESCRIPTION:RAIN OR SHINE
URL:https://www.k1circuit.com/calendar/arrive-and-drive-3-2/2026-06-03/
LOCATION:Whiteland
CATEGORIES:A&D 9-9
END:VEVENT
BEGIN:VEVENT
DTSTART;TZID=America/Los_Angeles:20260604T090000
DTEND;TZID=America/Los_Angeles:20260604T210000
DTSTAMP:20260422T015305
CREATED:20250117T013303Z
LAST-MODIFIED:20260406T172604Z
UID:10020426-1780563600-1780606800@www.k1circuit.com
SUMMARY:Arrive and Drive
DESCRIPTION:RAIN OR SHINE
URL:https://www.k1circuit.com/calendar/arrive-and-drive/2026-06-04/
LOCATION:Winchester
CATEGORIES:A&D 9-9
END:VEVENT
BEGIN:VEVENT
DTSTART;TZID=America/Los_Angeles:20260604T090000
DTEND;TZID=America/Los_Angeles:20260604T210000
DTSTAMP:20260422T015305
CREATED:20260304T000732Z
LAST-MODIFIED:20260304T203931Z
UID:10020834-1780563600-1780606800@www.k1circuit.com
SUMMARY:Arrive and Drive
DESCRIPTION:RAIN OR SHINE
URL:https://www.k1circuit.com/calendar/arrive-and-drive-3-2/2026-06-04/
LOCATION:Whiteland
CATEGORIES:A&D 9-9
END:VEVENT
BEGIN:VEVENT
DTSTART;TZID=America/Los_Angeles:20260605T090000
DTEND;TZID=America/Los_Angeles:20260605T210000
DTSTAMP:20260422T015305
CREATED:20250117T013303Z
LAST-MODIFIED:20260406T172604Z
UID:10020427-1780650000-1780693200@www.k1circuit.com
SUMMARY:Arrive and Drive
DESCRIPTION:RAIN OR SHINE
URL:https://www.k1circuit.com/calendar/arrive-and-drive/2026-06-05/
LOCATION:Winchester
CATEGORIES:A&D 9-9
END:VEVENT
BEGIN:VEVENT
DTSTART;TZID=America/Los_Angeles:20260605T090000
DTEND;TZID=America/Los_Angeles:20260605T210000
DTSTAMP:20260422T015305
CREATED:20260304T000732Z
LAST-MODIFIED:20260304T203931Z
UID:10020835-1780650000-1780693200@www.k1circuit.com
SUMMARY:Arrive and Drive
DESCRIPTION:RAIN OR SHINE
URL:https://www.k1circuit.com/calendar/arrive-and-drive-3-2/2026-06-05/
LOCATION:Whiteland
CATEGORIES:A&D 9-9
END:VEVENT
BEGIN:VEVENT
DTSTART;TZID=America/Los_Angeles:20260606T090000
DTEND;TZID=America/Los_Angeles:20260606T210000
DTSTAMP:20260422T015305
CREATED:20260304T000732Z
LAST-MODIFIED:20260304T203931Z
UID:10020836-1780736400-1780779600@www.k1circuit.com
SUMMARY:Arrive and Drive
DESCRIPTION:RAIN OR SHINE
URL:https://www.k1circuit.com/calendar/arrive-and-drive-3-2/2026-06-06/
LOCATION:Whiteland
CATEGORIES:A&D 9-9
END:VEVENT
BEGIN:VEVENT
DTSTART;TZID=America/Los_Angeles:20260607T090000
DTEND;TZID=America/Los_Angeles:20260607T210000
DTSTAMP:20260422T015305
CREATED:20250117T013303Z
LAST-MODIFIED:20260406T172604Z
UID:10020428-1780822800-1780866000@www.k1circuit.com
SUMMARY:Arrive and Drive
DESCRIPTION:RAIN OR SHINE
URL:https://www.k1circuit.com/calendar/arrive-and-drive/2026-06-07/
LOCATION:Winchester
CATEGORIES:A&D 9-9
END:VEVENT
BEGIN:VEVENT
DTSTART;TZID=America/Los_Angeles:20260607T090000
DTEND;TZID=America/Los_Angeles:20260607T210000
DTSTAMP:20260422T015305
CREATED:20260304T000732Z
LAST-MODIFIED:20260304T203931Z
UID:10020837-1780822800-1780866000@www.k1circuit.com
SUMMARY:Arrive and Drive
DESCRIPTION:RAIN OR SHINE
URL:https://www.k1circuit.com/calendar/arrive-and-drive-3-2/2026-06-07/
LOCATION:Whiteland
CATEGORIES:A&D 9-9
END:VEVENT
BEGIN:VEVENT
DTSTART;TZID=America/Los_Angeles:20260608T090000
DTEND;TZID=America/Los_Angeles:20260608T210000
DTSTAMP:20260422T015305
CREATED:20250117T013303Z
LAST-MODIFIED:20260406T172604Z
UID:10020429-1780909200-1780952400@www.k1circuit.com
SUMMARY:Arrive and Drive
DESCRIPTION:RAIN OR SHINE
URL:https://www.k1circuit.com/calendar/arrive-and-drive/2026-06-08/
LOCATION:Winchester
CATEGORIES:A&D 9-9
END:VEVENT
BEGIN:VEVENT
DTSTART;TZID=America/Los_Angeles:20260608T090000
DTEND;TZID=America/Los_Angeles:20260608T210000
DTSTAMP:20260422T015305
CREATED:20260304T000732Z
LAST-MODIFIED:20260304T203931Z
UID:10020838-1780909200-1780952400@www.k1circuit.com
SUMMARY:Arrive and Drive
DESCRIPTION:RAIN OR SHINE
URL:https://www.k1circuit.com/calendar/arrive-and-drive-3-2/2026-06-08/
LOCATION:Whiteland
CATEGORIES:A&D 9-9
END:VEVENT
BEGIN:VEVENT
DTSTART;TZID=America/Los_Angeles:20260609T090000
DTEND;TZID=America/Los_Angeles:20260609T210000
DTSTAMP:20260422T015305
CREATED:20250117T013303Z
LAST-MODIFIED:20260406T172604Z
UID:10020430-1780995600-1781038800@www.k1circuit.com
SUMMARY:Arrive and Drive
DESCRIPTION:RAIN OR SHINE
URL:https://www.k1circuit.com/calendar/arrive-and-drive/2026-06-09/
LOCATION:Winchester
CATEGORIES:A&D 9-9
END:VEVENT
BEGIN:VEVENT
DTSTART;TZID=America/Los_Angeles:20260609T090000
DTEND;TZID=America/Los_Angeles:20260609T210000
DTSTAMP:20260422T015305
CREATED:20260304T000732Z
LAST-MODIFIED:20260304T203931Z
UID:10020839-1780995600-1781038800@www.k1circuit.com
SUMMARY:Arrive and Drive
DESCRIPTION:RAIN OR SHINE
URL:https://www.k1circuit.com/calendar/arrive-and-drive-3-2/2026-06-09/
LOCATION:Whiteland
CATEGORIES:A&D 9-9
END:VEVENT
BEGIN:VEVENT
DTSTART;TZID=America/Los_Angeles:20260610T090000
DTEND;TZID=America/Los_Angeles:20260610T210000
DTSTAMP:20260422T015305
CREATED:20250117T013303Z
LAST-MODIFIED:20260406T172604Z
UID:10020431-1781082000-1781125200@www.k1circuit.com
SUMMARY:Arrive and Drive
DESCRIPTION:RAIN OR SHINE
URL:https://www.k1circuit.com/calendar/arrive-and-drive/2026-06-10/
LOCATION:Winchester
CATEGORIES:A&D 9-9
END:VEVENT
BEGIN:VEVENT
DTSTART;TZID=America/Los_Angeles:20260610T090000
DTEND;TZID=America/Los_Angeles:20260610T210000
DTSTAMP:20260422T015305
CREATED:20260304T000732Z
LAST-MODIFIED:20260304T203931Z
UID:10020840-1781082000-1781125200@www.k1circuit.com
SUMMARY:Arrive and Drive
DESCRIPTION:RAIN OR SHINE
URL:https://www.k1circuit.com/calendar/arrive-and-drive-3-2/2026-06-10/
LOCATION:Whiteland
CATEGORIES:A&D 9-9
END:VEVENT
BEGIN:VEVENT
DTSTART;TZID=America/Los_Angeles:20260611T090000
DTEND;TZID=America/Los_Angeles:20260611T210000
DTSTAMP:20260422T015305
CREATED:20250117T013303Z
LAST-MODIFIED:20260406T172604Z
UID:10020432-1781168400-1781211600@www.k1circuit.com
SUMMARY:Arrive and Drive
DESCRIPTION:RAIN OR SHINE
URL:https://www.k1circuit.com/calendar/arrive-and-drive/2026-06-11/
LOCATION:Winchester
CATEGORIES:A&D 9-9
END:VEVENT
BEGIN:VEVENT
DTSTART;TZID=America/Los_Angeles:20260611T090000
DTEND;TZID=America/Los_Angeles:20260611T210000
DTSTAMP:20260422T015305
CREATED:20260304T000732Z
LAST-MODIFIED:20260304T203931Z
UID:10020841-1781168400-1781211600@www.k1circuit.com
SUMMARY:Arrive and Drive
DESCRIPTION:RAIN OR SHINE
URL:https://www.k1circuit.com/calendar/arrive-and-drive-3-2/2026-06-11/
LOCATION:Whiteland
CATEGORIES:A&D 9-9
END:VEVENT
BEGIN:VEVENT
DTSTART;TZID=America/Los_Angeles:20260612T090000
DTEND;TZID=America/Los_Angeles:20260612T210000
DTSTAMP:20260422T015305
CREATED:20260304T000732Z
LAST-MODIFIED:20260304T203931Z
UID:10020842-1781254800-1781298000@www.k1circuit.com
SUMMARY:Arrive and Drive
DESCRIPTION:RAIN OR SHINE
URL:https://www.k1circuit.com/calendar/arrive-and-drive-3-2/2026-06-12/
LOCATION:Whiteland
CATEGORIES:A&D 9-9
END:VEVENT
BEGIN:VEVENT
DTSTART;TZID=America/Los_Angeles:20260613T090000
DTEND;TZID=America/Los_Angeles:20260613T210000
DTSTAMP:20260422T015305
CREATED:20250117T013303Z
LAST-MODIFIED:20260406T172604Z
UID:10020433-1781341200-1781384400@www.k1circuit.com
SUMMARY:Arrive and Drive
DESCRIPTION:RAIN OR SHINE
URL:https://www.k1circuit.com/calendar/arrive-and-drive/2026-06-13/
LOCATION:Winchester
CATEGORIES:A&D 9-9
END:VEVENT
BEGIN:VEVENT
DTSTART;TZID=America/Los_Angeles:20260613T090000
DTEND;TZID=America/Los_Angeles:20260613T210000
DTSTAMP:20260422T015305
CREATED:20260304T000732Z
LAST-MODIFIED:20260304T203931Z
UID:10020843-1781341200-1781384400@www.k1circuit.com
SUMMARY:Arrive and Drive
DESCRIPTION:RAIN OR SHINE
URL:https://www.k1circuit.com/calendar/arrive-and-drive-3-2/2026-06-13/
LOCATION:Whiteland
CATEGORIES:A&D 9-9
END:VEVENT
BEGIN:VEVENT
DTSTART;TZID=America/Los_Angeles:20260614T090000
DTEND;TZID=America/Los_Angeles:20260614T210000
DTSTAMP:20260422T015305
CREATED:20250117T013303Z
LAST-MODIFIED:20260406T172604Z
UID:10020434-1781427600-1781470800@www.k1circuit.com
SUMMARY:Arrive and Drive
DESCRIPTION:RAIN OR SHINE
URL:https://www.k1circuit.com/calendar/arrive-and-drive/2026-06-14/
LOCATION:Winchester
CATEGORIES:A&D 9-9
END:VEVENT
BEGIN:VEVENT
DTSTART;TZID=America/Los_Angeles:20260614T090000
DTEND;TZID=America/Los_Angeles:20260614T210000
DTSTAMP:20260422T015305
CREATED:20260304T000732Z
LAST-MODIFIED:20260304T203931Z
UID:10020844-1781427600-1781470800@www.k1circuit.com
SUMMARY:Arrive and Drive
DESCRIPTION:RAIN OR SHINE
URL:https://www.k1circuit.com/calendar/arrive-and-drive-3-2/2026-06-14/
LOCATION:Whiteland
CATEGORIES:A&D 9-9
END:VEVENT
BEGIN:VEVENT
DTSTART;TZID=America/Los_Angeles:20260615T090000
DTEND;TZID=America/Los_Angeles:20260615T210000
DTSTAMP:20260422T015305
CREATED:20250117T013303Z
LAST-MODIFIED:20260406T172604Z
UID:10020435-1781514000-1781557200@www.k1circuit.com
SUMMARY:Arrive and Drive
DESCRIPTION:RAIN OR SHINE
URL:https://www.k1circuit.com/calendar/arrive-and-drive/2026-06-15/
LOCATION:Winchester
CATEGORIES:A&D 9-9
END:VEVENT
BEGIN:VEVENT
DTSTART;TZID=America/Los_Angeles:20260615T090000
DTEND;TZID=America/Los_Angeles:20260615T210000
DTSTAMP:20260422T015305
CREATED:20260304T000732Z
LAST-MODIFIED:20260304T203931Z
UID:10020845-1781514000-1781557200@www.k1circuit.com
SUMMARY:Arrive and Drive
DESCRIPTION:RAIN OR SHINE
URL:https://www.k1circuit.com/calendar/arrive-and-drive-3-2/2026-06-15/
LOCATION:Whiteland
CATEGORIES:A&D 9-9
END:VEVENT
BEGIN:VEVENT
DTSTART;TZID=America/Los_Angeles:20260616T090000
DTEND;TZID=America/Los_Angeles:20260616T210000
DTSTAMP:20260422T015305
CREATED:20250117T013303Z
LAST-MODIFIED:20260406T172604Z
UID:10020436-1781600400-1781643600@www.k1circuit.com
SUMMARY:Arrive and Drive
DESCRIPTION:RAIN OR SHINE
URL:https://www.k1circuit.com/calendar/arrive-and-drive/2026-06-16/
LOCATION:Winchester
CATEGORIES:A&D 9-9
END:VEVENT
BEGIN:VEVENT
DTSTART;TZID=America/Los_Angeles:20260616T090000
DTEND;TZID=America/Los_Angeles:20260616T210000
DTSTAMP:20260422T015305
CREATED:20260304T000732Z
LAST-MODIFIED:20260304T203931Z
UID:10020846-1781600400-1781643600@www.k1circuit.com
SUMMARY:Arrive and Drive
DESCRIPTION:RAIN OR SHINE
URL:https://www.k1circuit.com/calendar/arrive-and-drive-3-2/2026-06-16/
LOCATION:Whiteland
CATEGORIES:A&D 9-9
END:VEVENT
END:VCALENDAR